BEGIN:VCALENDAR
VERSION:2.0
PRODID:-//eventon.com NONSGML v1.0//EN
CALSCALE:GREGORIAN
METHOD:PUBLISH
BEGIN:VEVENT
UID:69e5f14815dbc
DTSTAMP:20260420T092632Z
DTSTART:20210904
DTEND:20210905
LOCATION:Beočin Beočin
SUMMARY:Banoštorski dani grožđa
DESCRIPTION:Banoštorski dani grožđa su manifestacija posvećena vinu i v
 inogradima. Ovo je prva manifestacija u Srbiji koja najavljuje početak ber
 be\,  jer na severnim padinama Fruške gore\,  grožđe sazreva ranije nego
  u drugim vinskim reonima. Banoštorske vinograde kažu\,  obasjavaju dva s
 unca\,  pa zato imaju izuteno kvalitetno grožđe i još bolje vino. Banoš
 torski[..]\nhttps://eventsinserbia.com/events/banostorski-dani-grozdja/
URL:https://eventsinserbia.com/events/banostorski-dani-grozdja/
END:VEVENT
END:VCALENDAR