BEGIN:VCALENDAR
VERSION:2.0
PRODID:-//eventon.com NONSGML v1.0//EN
CALSCALE:GREGORIAN
METHOD:PUBLISH
BEGIN:VEVENT
UID:69ea4aaf1f005
DTSTAMP:20260423T163703Z
DTSTART:20250512
DTEND:20250513
LOCATION:Beograd Beograd
SUMMARY:Molijerovi dani
DESCRIPTION:Molijerovi dani su književna manifestacija koju organizuje Fra
 ncuski institut u Srbiji. I ove godine u okviru manifestacije biće priređ
 eni zanimljivi razgovori\,  onlajn ili uživo\,  sa frankofonim i srpskim k
 njiževnicima\,  filozofima\,  strip autorima\,  izdavačima\,  prevodiocim
 a\,  filmskim umetnicima\,  muzičarima\,  naučnicima\,  ilustratorima. Ov
 e godine u Srbiji gostuju pisci Olivije Burdo\,  Lusil Gomez i[..]\nhttps:/
 /eventsinserbia.com/events/molijerovi-dani/
URL:https://eventsinserbia.com/events/molijerovi-dani/
END:VEVENT
END:VCALENDAR