BEGIN:VCALENDAR
VERSION:2.0
PRODID:-//eventon.com NONSGML v1.0//EN
CALSCALE:GREGORIAN
METHOD:PUBLISH
BEGIN:VEVENT
UID:69e9f90e736d8
DTSTAMP:20260423T104846Z
DTSTART:20210423T160000Z
DTEND:20210425T180000Z
LOCATION:https://neceproci.studio20.rs/
SUMMARY:Kongres o trgovini ljudima "Ne u mojoj smeni"
DESCRIPTION:„Ne u mojoj smeni“ prvi je kongres o trgovini ljudima namen
 jen prvenstveno predstavnicima organizacija civilnog društva iz Srbije ali
  i svima onima čiji je rad usmeren na mlade. Tri dana kongresa podeljena s
 u u tri edukativne tematske celine\,  o kojima će govoriti stručnjaci iz 
 različitih vladinih i nevladinih tela i[..]\nhttps://eventsinserbia.com/ev
 ents/kongres-o-trgovini-ljudima-ne-u-mojoj-smeni/var/event_access
URL:https://eventsinserbia.com/events/kongres-o-trgovini-ljudima-ne-u-mojoj-smeni/var/event_access
END:VEVENT
END:VCALENDAR