BEGIN:VCALENDAR
VERSION:2.0
PRODID:-//eventon.com NONSGML v1.0//EN
CALSCALE:GREGORIAN
METHOD:PUBLISH
BEGIN:VEVENT
UID:69e893af28b8e
DTSTAMP:20260422T092359Z
DTSTART:20220418
DTEND:20220419
LOCATION:Beograd Beograd
SUMMARY:Serbia Open
DESCRIPTION:Serbia Open je sportski događaj\,  najekskluzivniji u čitavom
  regionu\,  i najbolja je promocija tenisa i teniskih talenata Srbije\,  sp
 orta i zdravijih navika. Za titulu na šljaci će se nadmetati neki od najb
 oljih tenisera planete. Serbia Open 2022 predstavlja ATP turnir serije 250.
  Turnir će ove godine biti održan u Teniskom[..]\nhttps://eventsinserbia.
 com/events/serbia-open/
URL:https://eventsinserbia.com/events/serbia-open/
END:VEVENT
END:VCALENDAR