BEGIN:VCALENDAR
VERSION:2.0
PRODID:-//eventon.com NONSGML v1.0//EN
CALSCALE:GREGORIAN
METHOD:PUBLISH
BEGIN:VEVENT
UID:69e5f0c2015e6
DTSTAMP:20260420T092418Z
DTSTART:20250709T220000Z
DTEND:20250712T220000Z
LOCATION:Loznica Loznica
SUMMARY:LilaLo
DESCRIPTION:Muzičko scenski festival LilaLo\,  koji afirmiše stvaralaštv
 o mladih\, &nbsp;posvećen je narodnom običaju lilanje\,  koji je autenti
 an za grad Loznicu i regiju Podrinje. Ideja za festival LilaLo (lilanje u 
 Loznici) nastala je u želji da se zbliži tradicionalno i moderno\,  da se
  tradicija prikaže na jedan savremen način i sačuva za generacije[..]\nh
 ttps://eventsinserbia.com/events/lilalo/
URL:https://eventsinserbia.com/events/lilalo/
END:VEVENT
END:VCALENDAR