BEGIN:VCALENDAR
VERSION:2.0
PRODID:-//eventon.com NONSGML v1.0//EN
CALSCALE:GREGORIAN
METHOD:PUBLISH
BEGIN:VEVENT
UID:69e9e3f451dba
DTSTAMP:20260423T091844Z
DTSTART:20240407T100000Z
DTEND:20240407T160000Z
LOCATION:Beograd Beograd
SUMMARY:Rakovički karneval
DESCRIPTION:Rakovički karneval je jedan od najmlađih karnevala u Srbiji. 
 Održava se u beogradskoj opštini Rakovica. Karnevalska povorka se kreće 
 delom ulice Patrijarha Joanikija u dužini od 800 metara. Karnevalske grupe
  se predstavljaju sa svojim koreografijama na tri bine koje su postavljene 
 na trasi. Karnevalskom trasom prodefiluje više od 40 karnevalskih[..]\nhtt
 ps://eventsinserbia.com/events/rakovicki-karneval/
URL:https://eventsinserbia.com/events/rakovicki-karneval/
END:VEVENT
END:VCALENDAR