BEGIN:VCALENDAR
VERSION:2.0
PRODID:-//eventon.com NONSGML v1.0//EN
CALSCALE:GREGORIAN
METHOD:PUBLISH
BEGIN:VEVENT
UID:69e9e43b8253e
DTSTAMP:20260423T091955Z
DTSTART:20260220
DTEND:20260221
LOCATION:Srbobran\,  Turija Turija
SUMMARY:Kobasicijada u Turiji
DESCRIPTION:Kobasicijada u Turiji se tradicionalno održava poslednjeg vike
 nda u februaru. Na manifestaciji se održava takmičenje u pravljenju svež
 e kobasice\,  na kojem prijavljeni timovi pokazuju znanje i umeće u pravlj
 enju kobasica. I ove godine\,  Kobasicijada će biti mesto gde se obaraju r
 ekordi &#8211; praviće se kobasica u crevu dužine 2.042 metra![..]\nhttps
 ://eventsinserbia.com/events/kobasicijada-u-turiji/
URL:https://eventsinserbia.com/events/kobasicijada-u-turiji/
END:VEVENT
END:VCALENDAR