BEGIN:VCALENDAR
VERSION:2.0
PRODID:-//eventon.com NONSGML v1.0//EN
CALSCALE:GREGORIAN
METHOD:PUBLISH
BEGIN:VEVENT
UID:69eb6bae1b693
DTSTAMP:20260424T131006Z
DTSTART:20251010
DTEND:20251011
LOCATION:Topola Topola
SUMMARY:Oplenačka berba grožđa
DESCRIPTION:U Topoli se od 1962. godine svakog oktobra održava Oplenačka 
 berba grožđa\,  manifestacija koju u Šumadiji jednostavno zovu Vašar u 
 Topoli. Ove godine\,  održaće se 62. Oplenačka berba grožđa! Oplenačk
 a berba grožđa traje tri dana\,  odvija se u centru Topole\,  duž glavni
 h ulica\,  od Vinskog trga preko Vinske ulice do[..]\nhttps://eventsinserbi
 a.com/events/oplenacka-berba-grozdja/
URL:https://eventsinserbia.com/events/oplenacka-berba-grozdja/
END:VEVENT
END:VCALENDAR